BEGIN:VCALENDAR
VERSION:2.0
PRODID:-//Chacewater Community//LSVR Events//EN
CALSCALE:GREGORIAN
METHOD:PUBLISH
BEGIN:VEVENT
UID:19664@chacewater.community
DTSTAMP:20260421T084446Z
DTSTART;TZID=Europe/London:20260312T180000
DTEND;TZID=Europe/London:20260312T220000
SUMMARY:Cash Bingo
DESCRIPTION:https://chacewater.community/community-calendar/cash-bingo/
LOCATION:Chacewater Village Hall
URL:https://chacewater.community/community-calendar/cash-bingo/
END:VEVENT
END:VCALENDAR
