BEGIN:VCALENDAR
VERSION:2.0
PRODID:-//Chacewater Community//LSVR Events//EN
CALSCALE:GREGORIAN
METHOD:PUBLISH
BEGIN:VEVENT
UID:19693@chacewater.community
DTSTAMP:20260421T084709Z
DTSTART;TZID=Europe/London:20260315T103000
DTEND;TZID=Europe/London:20260315T113000
SUMMARY:Chacewater Chapel – Mothering Sunday (Roy Picken)
DESCRIPTION:https://chacewater.community/community-calendar/chacewater-ch
 apel-roy-picken-2026-03-15/
LOCATION:Chacewater Village Hall
URL:https://chacewater.community/community-calendar/chacewater-chapel-roy
 -picken-2026-03-15/
END:VEVENT
END:VCALENDAR
