BEGIN:VCALENDAR
VERSION:2.0
PRODID:-//Chacewater Community//LSVR Events//EN
CALSCALE:GREGORIAN
METHOD:PUBLISH
BEGIN:VEVENT
UID:20524@chacewater.community
DTSTAMP:20260421T095339Z
DTSTART;TZID=Europe/London:20260516T103000
DTEND;TZID=Europe/London:20260516T120000
SUMMARY:Chacewater Community Garden Coffee Morning
DESCRIPTION:https://chacewater.community/community-calendar/chacewater-co
 mmunity-garden-coffee-morning/
LOCATION:Chacewater Community Garden
URL:https://chacewater.community/community-calendar/chacewater-community-
 garden-coffee-morning/
END:VEVENT
END:VCALENDAR
