BEGIN:VCALENDAR
VERSION:2.0
PRODID:-//Chacewater Community//LSVR Events//EN
CALSCALE:GREGORIAN
METHOD:PUBLISH
BEGIN:VEVENT
UID:7163@chacewater.community
DTSTAMP:20260421T111238Z
DTSTART;TZID=Europe/London:20260121T140000
DTEND;TZID=Europe/London:20260121T161500
SUMMARY:Chacewater Tea Dances
DESCRIPTION:https://chacewater.community/community-calendar/chacewater-te
 a-dances/
LOCATION:Chacewater Village Hall
URL:https://chacewater.community/community-calendar/chacewater-tea-dances
 /
END:VEVENT
END:VCALENDAR
