BEGIN:VCALENDAR
VERSION:2.0
PRODID:-//Chacewater Community//LSVR Events//EN
CALSCALE:GREGORIAN
METHOD:PUBLISH
BEGIN:VEVENT
UID:20590@chacewater.community
DTSTAMP:20260421T084626Z
DTSTART;TZID=Europe/London:20260425T100000
DTEND;TZID=Europe/London:20260425T140000
SUMMARY:Coffee Morning\, Lunch &amp\; Sale
DESCRIPTION:https://chacewater.community/community-calendar/coffee-mornin
 g-lunch-sale/
LOCATION:St. Paul's Church
URL:https://chacewater.community/community-calendar/coffee-morning-lunch-
 sale/
END:VEVENT
END:VCALENDAR
