BEGIN:VCALENDAR
VERSION:2.0
PRODID:-//Chacewater Community//LSVR Events//EN
CALSCALE:GREGORIAN
METHOD:PUBLISH
BEGIN:VEVENT
UID:19676@chacewater.community
DTSTAMP:20260422T083835Z
DTSTART;TZID=Europe/London:20260303T100000
DTEND;TZID=Europe/London:20260303T113000
SUMMARY:Free Taster Bowling Sessions
DESCRIPTION:https://chacewater.community/community-calendar/free-taster-b
 owling-sessions/
LOCATION:Chacewater Bowling Club
URL:https://chacewater.community/community-calendar/free-taster-bowling-s
 essions/
END:VEVENT
END:VCALENDAR
