BEGIN:VCALENDAR
VERSION:2.0
PRODID:-//Chacewater Community//LSVR Events//EN
CALSCALE:GREGORIAN
METHOD:PUBLISH
BEGIN:VEVENT
UID:7630@chacewater.community
DTSTAMP:20260420T123259Z
DTSTART;TZID=Europe/London:20260227T190000
DTEND;TZID=Europe/London:20260227T210000
SUMMARY:Horse Race Night
DESCRIPTION:https://chacewater.community/community-calendar/horse-race-ni
 ght/
LOCATION:Chacewater Bowling Club
URL:https://chacewater.community/community-calendar/horse-race-night/
END:VEVENT
END:VCALENDAR
