BEGIN:VCALENDAR
VERSION:2.0
PRODID:-//Chacewater Community//LSVR Events//EN
CALSCALE:GREGORIAN
METHOD:PUBLISH
BEGIN:VEVENT
UID:7627@chacewater.community
DTSTAMP:20260422T085627Z
DTSTART;TZID=Europe/London:20260226T083000
DTEND;TZID=Europe/London:20260226T093000
SUMMARY:Litter Pick
DESCRIPTION:https://chacewater.community/community-calendar/litter-pick/
LOCATION:Cox Hill layby
URL:https://chacewater.community/community-calendar/litter-pick/
END:VEVENT
END:VCALENDAR
