BEGIN:VCALENDAR
VERSION:2.0
PRODID:-//Chacewater Community//LSVR Events//EN
CALSCALE:GREGORIAN
METHOD:PUBLISH
BEGIN:VEVENT
UID:7189@chacewater.community
DTSTAMP:20260421T100310Z
DTSTART;TZID=Europe/London:20260709T114000
DTEND;TZID=Europe/London:20260709T120000
SUMMARY:Mobile Library
DESCRIPTION:https://chacewater.community/community-calendar/mobile-librar
 y-14/
LOCATION:Twelveheads Chapel
URL:https://chacewater.community/community-calendar/mobile-library-14/
END:VEVENT
END:VCALENDAR
