BEGIN:VCALENDAR
VERSION:2.0
PRODID:-//Chacewater Community//LSVR Events//EN
CALSCALE:GREGORIAN
METHOD:PUBLISH
BEGIN:VEVENT
UID:7192@chacewater.community
DTSTAMP:20260419T152143Z
DTSTART;TZID=Europe/London:20260514T125000
DTEND;TZID=Europe/London:20260514T131500
SUMMARY:Mobile Library
DESCRIPTION:https://chacewater.community/community-calendar/mobile-librar
 y-15/
LOCATION:The Square Car Park
URL:https://chacewater.community/community-calendar/mobile-library-15/
END:VEVENT
END:VCALENDAR
