BEGIN:VCALENDAR
VERSION:2.0
PRODID:-//Chacewater Community//LSVR Events//EN
CALSCALE:GREGORIAN
METHOD:PUBLISH
BEGIN:VEVENT
UID:3738@chacewater.community
DTSTAMP:20260421T101045Z
DTSTART;TZID=Europe/London:20260516T110000
DTEND;TZID=Europe/London:20260516T160000
SUMMARY:Nature Recovery\, Local Food\, Green Energy\, and Electric Bike D
 ay
DESCRIPTION:https://chacewater.community/community-calendar/nature-recove
 ry-local-food-green-energy-and-electric-bike-day/
LOCATION:Chacewater Village Hall
URL:https://chacewater.community/community-calendar/nature-recovery-local
 -food-green-energy-and-electric-bike-day/
END:VEVENT
END:VCALENDAR
