BEGIN:VCALENDAR
VERSION:2.0
PRODID:-//Chacewater Community//LSVR Events//EN
CALSCALE:GREGORIAN
METHOD:PUBLISH
BEGIN:VEVENT
UID:19668@chacewater.community
DTSTAMP:20260422T085041Z
DTSTART;TZID=Europe/London:20260329T143000
DTEND;TZID=Europe/London:20260329T163000
SUMMARY:Palm Sunday Outdoor Concert
DESCRIPTION:https://chacewater.community/community-calendar/palm-sunday-o
 utdoor-concert/
URL:https://chacewater.community/community-calendar/palm-sunday-outdoor-c
 oncert/
END:VEVENT
END:VCALENDAR
