BEGIN:VCALENDAR
VERSION:2.0
PRODID:-//Chacewater Community//LSVR Events//EN
CALSCALE:GREGORIAN
METHOD:PUBLISH
BEGIN:VEVENT
UID:19687@chacewater.community
DTSTAMP:20260421T084626Z
DTSTART;TZID=Europe/London:20260308T110000
DTEND;TZID=Europe/London:20260308T120000
SUMMARY:St Paul’s Church – Rev. Canon Jem Thorold
DESCRIPTION:https://chacewater.community/community-calendar/st-pauls-jem-
 thorold-2026-03-08/
LOCATION:St. Paul's Church
URL:https://chacewater.community/community-calendar/st-pauls-jem-thorold-
 2026-03-08/
END:VEVENT
END:VCALENDAR
