BEGIN:VCALENDAR
VERSION:2.0
PRODID:-//Chacewater Community//LSVR Events//EN
CALSCALE:GREGORIAN
METHOD:PUBLISH
BEGIN:VEVENT
UID:19688@chacewater.community
DTSTAMP:20260422T084240Z
DTSTART;TZID=Europe/London:20260315T110000
DTEND;TZID=Europe/London:20260315T120000
SUMMARY:St Paul’s Church – Mothering Sunday (Service of the Word)
DESCRIPTION:https://chacewater.community/community-calendar/st-pauls-moth
 ering-sunday-2026-03-15/
LOCATION:St. Paul's Church
URL:https://chacewater.community/community-calendar/st-pauls-mothering-su
 nday-2026-03-15/
END:VEVENT
END:VCALENDAR
