BEGIN:VCALENDAR
VERSION:2.0
PRODID:-//Chacewater Community//LSVR Events//EN
CALSCALE:GREGORIAN
METHOD:PUBLISH
BEGIN:VEVENT
UID:19694@chacewater.community
DTSTAMP:20260419T134123Z
DTSTART;TZID=Europe/London:20260322T103000
DTEND;TZID=Europe/London:20260322T113000
SUMMARY:Twelveheads Chapel – Holy Communion (Rev. Aubin de Grunchy)
DESCRIPTION:https://chacewater.community/community-calendar/twelveheads-c
 hapel-holy-communion-2026-03-22/
LOCATION:Twelveheads Chapel
URL:https://chacewater.community/community-calendar/twelveheads-chapel-ho
 ly-communion-2026-03-22/
END:VEVENT
END:VCALENDAR
